BEGIN:VCALENDAR
VERSION:2.0
PRODID:-//Worcestershire Breast Unit Haven - ECPv6.9.0//NONSGML v1.0//EN
CALSCALE:GREGORIAN
METHOD:PUBLISH
X-WR-CALNAME:Worcestershire Breast Unit Haven
X-ORIGINAL-URL:https://www.worcsbreastunithaven.com
X-WR-CALDESC:Events for Worcestershire Breast Unit Haven
REFRESH-INTERVAL;VALUE=DURATION:PT1H
X-Robots-Tag:noindex
X-PUBLISHED-TTL:PT1H
BEGIN:VTIMEZONE
TZID:UTC
BEGIN:STANDARD
TZOFFSETFROM:+0000
TZOFFSETTO:+0000
TZNAME:UTC
DTSTART:20260101T000000
END:STANDARD
END:VTIMEZONE
BEGIN:VEVENT
DTSTART;TZID=UTC:20260309T080000
DTEND;TZID=UTC:20260930T170000
DTSTAMP:20260421T082752
CREATED:20260310T115627Z
LAST-MODIFIED:20260416T112047Z
UID:3191-1773043200-1790787600@www.worcsbreastunithaven.com
SUMMARY:Piston WBUH Limited Edition Gin
DESCRIPTION:We are delighted to announce the launch of our EXCLUSIVE limited edition 10th Anniversary Worcestershire Breast Unit Haven Gin\, in collaboration with Worcestershire’s Piston Distillery. \nThis unique\, one of a kind recipe (with a secret surprise when poured) has been carefully crafted by the distillers at Piston in collaboration with the WBUH team. Each 70cl bottle of Worcestershire Breast Unit Haven Gin costs £45 – All profits come direct to the charity. This is a limited edition exclusive so don’t miss out! \nOur next drop for this Exclusive Gin is the 17th May\, get your orders in by the 8th May! \nThis is our second batch of orders and will be collected form Piston Gin at Diglis. \nPlace your pre-order here (please put your name clearly as a reference) and then by emailing clare.stokes3@nhs.net to confirm your order. \nhttps://giving.give-star.com/online/worcestershire-breast-unit-haven/10th-anniversary-worcestershire-breast-unit-haven-gin \n  \nQR code for order link \n \n  \n 
URL:https://www.worcsbreastunithaven.com/event/piston-wbuh-limited-edition-gin/
ATTACH;FMTTYPE=image/jpeg:https://five874multi.wpengine.com/wbuh/wp-content/uploads/sites/58/2026/03/WBUH-Gin-Bottle-3-scaled.jpg
END:VEVENT
BEGIN:VEVENT
DTSTART;TZID=UTC:20260515T100000
DTEND;TZID=UTC:20260515T120000
DTSTAMP:20260421T082752
CREATED:20260204T123716Z
LAST-MODIFIED:20260204T124711Z
UID:3144-1778839200-1778846400@www.worcsbreastunithaven.com
SUMMARY:Look Good Feel Better Workshop for Secondary Breast Cancer Patients
DESCRIPTION:A confidence-boosting skincare and make-up  workshop for secondary breast cancer patients undergoing treatment in Worcestershire. \nLed by LGFB beauty volunteers\, the session is an opportunity to meet others in a similar situation whilst being taught vital skills such as how to draw on missing eyebrows and eyelashes\, and learn about skincare. \nPlaces are limited so please contact Corinna in the WBUH team to register your interest. \ncorinna.parsons@nhs.net 
URL:https://www.worcsbreastunithaven.com/event/look-good-feel-better-workshop-for-secondary-breast-cancer-patients-2/
LOCATION:Worcestershire Breast Unit\, Worcestershire Royal Hospital\, Charles Hastings Way\, Worcester\, WR5 1DD\, United Kingdom
ATTACH;FMTTYPE=image/jpeg:https://five874multi.wpengine.com/wbuh/wp-content/uploads/sites/58/2026/02/LGFB-Secondary-patients-dates-2026-e1770209204443.jpg
ORGANIZER;CN="Worcestershire Breast Unit Haven":MAILTO:alexandra.craigie@nhs.net
END:VEVENT
END:VCALENDAR