BEGIN:VCALENDAR
VERSION:2.0
PRODID:-//Worcestershire Breast Unit Haven - ECPv6.9.0//NONSGML v1.0//EN
CALSCALE:GREGORIAN
METHOD:PUBLISH
X-WR-CALNAME:Worcestershire Breast Unit Haven
X-ORIGINAL-URL:https://www.worcsbreastunithaven.com
X-WR-CALDESC:Events for Worcestershire Breast Unit Haven
REFRESH-INTERVAL;VALUE=DURATION:PT1H
X-Robots-Tag:noindex
X-PUBLISHED-TTL:PT1H
BEGIN:VTIMEZONE
TZID:UTC
BEGIN:STANDARD
TZOFFSETFROM:+0000
TZOFFSETTO:+0000
TZNAME:UTC
DTSTART:20190101T000000
END:STANDARD
END:VTIMEZONE
BEGIN:VEVENT
DTSTART;TZID=UTC:20191013T110000
DTEND;TZID=UTC:20191013T140000
DTSTAMP:20260421T102925
CREATED:20190925T173722Z
LAST-MODIFIED:20190925T173722Z
UID:1499-1570964400-1570975200@www.worcsbreastunithaven.com
SUMMARY:Annual dog walk
DESCRIPTION:Join the fun on Sunday 13 October at our annual dog walk.  We are meeting at The Fleece Inn Bretforton ready to depart at 11am.  Drinks and refreshments provided.  2-3 mile easy round walk. \n  \n£5 per person.  Pay on the day but please register your interest so we can judge numbers – 01905 733 786.
URL:https://www.worcsbreastunithaven.com/event/annual-dog-walk/
LOCATION:The Fleece Inn\, Bretforton\, Myrtle Cottage Bridge Street\, Bretforton\, WR11 7JE\, United Kingdom
ATTACH;FMTTYPE=image/jpeg:https://5874multi.s3.eu-west-1.amazonaws.com/wp-content/uploads/sites/58/2019/09/25173429/IMG_4992.jpg
ORGANIZER;CN="Worcestershire Breast Unit Haven":MAILTO:alexandra.craigie@nhs.net
END:VEVENT
BEGIN:VEVENT
DTSTART;TZID=UTC:20191010T190000
DTEND;TZID=UTC:20191010T210000
DTSTAMP:20260421T102925
CREATED:20190925T124714Z
LAST-MODIFIED:20190925T173157Z
UID:1495-1570734000-1570741200@www.worcsbreastunithaven.com
SUMMARY:Hand tied bouquets - floral workshop
DESCRIPTION:Learn to create your own hand tied bouquets – here at the Worcestershire Breast Unit led by Sweet Ginger Flowers. £40 per person.  Call 01905 733786 to book.
URL:https://www.worcsbreastunithaven.com/event/hand-tied-bouquets-floral-workshop/
LOCATION:Worcestershire Breast Unit\, Worcestershire Royal Hospital\, Charles Hastings Way\, Worcester\, WR5 1DD\, United Kingdom
ATTACH;FMTTYPE=image/jpeg:https://5874multi.s3.eu-west-1.amazonaws.com/wp-content/uploads/sites/58/2019/09/25123854/IMG_8631-scaled.jpg
ORGANIZER;CN="Worcestershire Breast Unit Haven":MAILTO:alexandra.craigie@nhs.net
END:VEVENT
BEGIN:VEVENT
DTSTART;TZID=UTC:20190919T190000
DTEND;TZID=UTC:20190919T210000
DTSTAMP:20260421T102925
CREATED:20180824T141106Z
LAST-MODIFIED:20180824T141106Z
UID:1236-1568919600-1568926800@www.worcsbreastunithaven.com
SUMMARY:Look Good Feel Better Workshop
DESCRIPTION:This wonderful evening offers the chance for women who are tackling cancer to come together at a special session hosted at the Worcestershire Breast Unit\, giving hints and tips on how to manage some of the visible side-effects of treatment. \nRun by beauty professionals\, Look Good Feel Better introduces some simple techniques that can help women to take back control of their bodies\, to help them look good and feel better about themselves. \nThe classes take place every two months\, in the relaxing environment of the Worcestershire Breast Unit in Worcester. \nTo find out more and to book your place\, please contact the WBUH Charity Office on 01905 733 786. \nPlease note – Booking is essential
URL:https://www.worcsbreastunithaven.com/event/look-good-feel-better-workshop-10/
LOCATION:Worcestershire Breast Unit\, Worcestershire Royal Hospital\, Charles Hastings Way\, Worcester\, WR5 1DD\, United Kingdom
ATTACH;FMTTYPE=image/jpeg:https://5874multi.s3.eu-west-1.amazonaws.com/wp-content/uploads/sites/58/2017/09/11103456/LGFB-2-2.jpg
END:VEVENT
BEGIN:VEVENT
DTSTART;TZID=UTC:20190916T103000
DTEND;TZID=UTC:20190916T153000
DTSTAMP:20260421T102925
CREATED:20181016T101618Z
LAST-MODIFIED:20181016T101618Z
UID:1342-1568629800-1568647800@www.worcsbreastunithaven.com
SUMMARY:Charity Stand at Worcester Royal Hospital
DESCRIPTION:Once a month\, we have a charity stand up in the reception of the main hospital which is manned by some of our lovely volunteers. The aim of the stand is to: \n– Raise awareness of our charity and the services which are available \n– Raise awareness of the wonderful range of activities and events that place both at the Unit and to raise funds for the charity \n– Raise funds for the charity through the sale of various charity pieces including bags. badges and cards \nIf you are around\, please do pop over and say hello. We’re happy to help in any way we can.
URL:https://www.worcsbreastunithaven.com/event/charity-stand-at-worcester-royal-hospital-22/
LOCATION:Worcester Royal Hospital\, Worcestershire Royal Hospital\, Charles Hastings Way\, Worcester\, WR5 1DD
ATTACH;FMTTYPE=image/jpeg:https://5874multi.s3.eu-west-1.amazonaws.com/wp-content/uploads/sites/58/2017/08/08135757/Hospital-Charity-Stand-e1586853076796.jpg
ORGANIZER;CN="Worcestershire Breast Unit Haven":MAILTO:alexandra.craigie@nhs.net
END:VEVENT
BEGIN:VEVENT
DTSTART;TZID=UTC:20190718T190000
DTEND;TZID=UTC:20190718T210000
DTSTAMP:20260421T102925
CREATED:20190313T153120Z
LAST-MODIFIED:20190313T153120Z
UID:1470-1563476400-1563483600@www.worcsbreastunithaven.com
SUMMARY:Look Good Feel Better
DESCRIPTION:
URL:https://www.worcsbreastunithaven.com/event/look-good-feel-better-2/
LOCATION:Worcestershire Breast Unit\, Worcestershire Royal Hospital\, Charles Hastings Way\, Worcester\, WR5 1DD\, United Kingdom
ORGANIZER;CN="Worcestershire Breast Unit Haven":MAILTO:alexandra.craigie@nhs.net
END:VEVENT
BEGIN:VEVENT
DTSTART;TZID=UTC:20190718T190000
DTEND;TZID=UTC:20190718T210000
DTSTAMP:20260421T102925
CREATED:20180824T140941Z
LAST-MODIFIED:20180824T140941Z
UID:1234-1563476400-1563483600@www.worcsbreastunithaven.com
SUMMARY:Look Good Feel Better Workshop
DESCRIPTION:This wonderful evening offers the chance for women who are tackling cancer to come together at a special session hosted at the Worcestershire Breast Unit\, giving hints and tips on how to manage some of the visible side-effects of treatment. \nRun by beauty professionals\, Look Good Feel Better introduces some simple techniques that can help women to take back control of their bodies\, to help them look good and feel better about themselves. \nThe classes take place every two months\, in the relaxing environment of the Worcestershire Breast Unit in Worcester. \nTo find out more and to book your place\, please contact the WBUH Charity Office on 01905 733 786. \nPlease note – Booking is essential
URL:https://www.worcsbreastunithaven.com/event/look-good-feel-better-workshop-9/
LOCATION:Worcestershire Breast Unit\, Worcestershire Royal Hospital\, Charles Hastings Way\, Worcester\, WR5 1DD\, United Kingdom
ATTACH;FMTTYPE=image/jpeg:https://5874multi.s3.eu-west-1.amazonaws.com/wp-content/uploads/sites/58/2017/09/11103456/LGFB-2-2.jpg
END:VEVENT
BEGIN:VEVENT
DTSTART;TZID=UTC:20190628T113000
DTEND;TZID=UTC:20190628T180000
DTSTAMP:20260421T102925
CREATED:20190330T094128Z
LAST-MODIFIED:20190326T154352Z
UID:1481-1561721400-1561744800@www.worcsbreastunithaven.com
SUMMARY:Charity polo day
DESCRIPTION:
URL:https://www.worcsbreastunithaven.com/event/charity-polo-day/
ATTACH;FMTTYPE=image/png:https://5874multi.s3.eu-west-1.amazonaws.com/wp-content/uploads/sites/58/2019/03/26153615/Anja-polo-Flyer.png
END:VEVENT
BEGIN:VEVENT
DTSTART;TZID=UTC:20190617T103000
DTEND;TZID=UTC:20190617T153000
DTSTAMP:20260421T102925
CREATED:20181016T101452Z
LAST-MODIFIED:20181016T101452Z
UID:1340-1560767400-1560785400@www.worcsbreastunithaven.com
SUMMARY:Charity Stand at Worcester Royal Hospital
DESCRIPTION:Once a month\, we have a charity stand up in the reception of the main hospital which is manned by some of our lovely volunteers. The aim of the stand is to: \n– Raise awareness of our charity and the services which are available \n– Raise awareness of the wonderful range of activities and events that place both at the Unit and to raise funds for the charity \n– Raise funds for the charity through the sale of various charity pieces including bags. badges and cards \nIf you are around\, please do pop over and say hello. We’re happy to help in any way we can.
URL:https://www.worcsbreastunithaven.com/event/charity-stand-at-worcester-royal-hospital-21/
LOCATION:Worcester Royal Hospital\, Worcestershire Royal Hospital\, Charles Hastings Way\, Worcester\, WR5 1DD
ATTACH;FMTTYPE=image/jpeg:https://5874multi.s3.eu-west-1.amazonaws.com/wp-content/uploads/sites/58/2017/08/08135757/Hospital-Charity-Stand-e1586853076796.jpg
ORGANIZER;CN="Worcestershire Breast Unit Haven":MAILTO:alexandra.craigie@nhs.net
END:VEVENT
BEGIN:VEVENT
DTSTART;TZID=UTC:20190615T110000
DTEND;TZID=UTC:20190616T160000
DTSTAMP:20260421T102925
CREATED:20190313T153257Z
LAST-MODIFIED:20190313T153257Z
UID:1472-1560596400-1560700800@www.worcsbreastunithaven.com
SUMMARY:Open Garden Weekend
DESCRIPTION:
URL:https://www.worcsbreastunithaven.com/event/open-garden-weekend/
LOCATION:Worcestershire Breast Unit\, Worcestershire Royal Hospital\, Charles Hastings Way\, Worcester\, WR5 1DD\, United Kingdom
ORGANIZER;CN="Worcestershire Breast Unit Haven":MAILTO:alexandra.craigie@nhs.net
END:VEVENT
BEGIN:VEVENT
DTSTART;TZID=UTC:20190520T103000
DTEND;TZID=UTC:20190520T153000
DTSTAMP:20260421T102925
CREATED:20181016T101331Z
LAST-MODIFIED:20181016T101331Z
UID:1338-1558348200-1558366200@www.worcsbreastunithaven.com
SUMMARY:Charity Stand at Worcester Royal Hospital
DESCRIPTION:Once a month\, we have a charity stand up in the reception of the main hospital which is manned by some of our lovely volunteers. The aim of the stand is to: \n– Raise awareness of our charity and the services which are available \n– Raise awareness of the wonderful range of activities and events that place both at the Unit and to raise funds for the charity \n– Raise funds for the charity through the sale of various charity pieces including bags. badges and cards \nIf you are around\, please do pop over and say hello. We’re happy to help in any way we can.
URL:https://www.worcsbreastunithaven.com/event/charity-stand-at-worcester-royal-hospital-20/
LOCATION:Worcester Royal Hospital\, Worcestershire Royal Hospital\, Charles Hastings Way\, Worcester\, WR5 1DD
ATTACH;FMTTYPE=image/jpeg:https://5874multi.s3.eu-west-1.amazonaws.com/wp-content/uploads/sites/58/2017/08/08135757/Hospital-Charity-Stand-e1586853076796.jpg
ORGANIZER;CN="Worcestershire Breast Unit Haven":MAILTO:alexandra.craigie@nhs.net
END:VEVENT
BEGIN:VEVENT
DTSTART;TZID=UTC:20190516T190000
DTEND;TZID=UTC:20190516T210000
DTSTAMP:20260421T102925
CREATED:20190313T152919Z
LAST-MODIFIED:20190313T152919Z
UID:1468-1558033200-1558040400@www.worcsbreastunithaven.com
SUMMARY:Look Good Feel Better
DESCRIPTION:
URL:https://www.worcsbreastunithaven.com/event/look-good-feel-better/
LOCATION:Worcestershire Breast Unit\, Worcestershire Royal Hospital\, Charles Hastings Way\, Worcester\, WR5 1DD\, United Kingdom
ORGANIZER;CN="Worcestershire Breast Unit Haven":MAILTO:alexandra.craigie@nhs.net
END:VEVENT
BEGIN:VEVENT
DTSTART;TZID=UTC:20190516T190000
DTEND;TZID=UTC:20190516T210000
DTSTAMP:20260421T102925
CREATED:20180824T140806Z
LAST-MODIFIED:20180824T140806Z
UID:1232-1558033200-1558040400@www.worcsbreastunithaven.com
SUMMARY:Look Good Feel Better Workshop
DESCRIPTION:This wonderful evening offers the chance for women who are tackling cancer to come together at a special session hosted at the Worcestershire Breast Unit\, giving hints and tips on how to manage some of the visible side-effects of treatment. \nRun by beauty professionals\, Look Good Feel Better introduces some simple techniques that can help women to take back control of their bodies\, to help them look good and feel better about themselves. \nThe classes take place every two months\, in the relaxing environment of the Worcestershire Breast Unit in Worcester. \nTo find out more and to book your place\, please contact the WBUH Charity Office on 01905 733 786. \nPlease note – Booking is essential
URL:https://www.worcsbreastunithaven.com/event/look-good-feel-better-workshop-8/
LOCATION:Worcestershire Breast Unit\, Worcestershire Royal Hospital\, Charles Hastings Way\, Worcester\, WR5 1DD\, United Kingdom
ATTACH;FMTTYPE=image/jpeg:https://5874multi.s3.eu-west-1.amazonaws.com/wp-content/uploads/sites/58/2017/09/11103456/LGFB-2-2.jpg
END:VEVENT
BEGIN:VEVENT
DTSTART;TZID=UTC:20190516T180000
DTEND;TZID=UTC:20190516T230000
DTSTAMP:20260421T102925
CREATED:20190327T144938Z
LAST-MODIFIED:20190327T144938Z
UID:1484-1558029600-1558047600@www.worcsbreastunithaven.com
SUMMARY:Primo Girls Night In
DESCRIPTION:Bring the girls along to Primo in Worcester for the Primo Girls Night In which is supporting us!
URL:https://www.worcsbreastunithaven.com/event/primo-girls-night-in/
ATTACH;FMTTYPE=image/jpeg:https://5874multi.s3.eu-west-1.amazonaws.com/wp-content/uploads/sites/58/2019/03/27144724/33370cc2-421c-4936-9e6a-e4f4e75bf33d.jpg
ORGANIZER;CN="Primo":MAILTO:manager@primoworcester.co.uk
END:VEVENT
BEGIN:VEVENT
DTSTART;TZID=UTC:20190415T103000
DTEND;TZID=UTC:20190415T153000
DTSTAMP:20260421T102925
CREATED:20181016T101204Z
LAST-MODIFIED:20181016T101204Z
UID:1336-1555324200-1555342200@www.worcsbreastunithaven.com
SUMMARY:Charity Stand at Worcester Royal Hospital
DESCRIPTION:Once a month\, we have a charity stand up in the reception of the main hospital which is manned by some of our lovely volunteers. The aim of the stand is to: \n– Raise awareness of our charity and the services which are available \n– Raise awareness of the wonderful range of activities and events that place both at the Unit and to raise funds for the charity \n– Raise funds for the charity through the sale of various charity pieces including bags. badges and cards \nIf you are around\, please do pop over and say hello. We’re happy to help in any way we can.
URL:https://www.worcsbreastunithaven.com/event/charity-stand-at-worcester-royal-hospital-19/
LOCATION:Worcester Royal Hospital\, Worcestershire Royal Hospital\, Charles Hastings Way\, Worcester\, WR5 1DD
ATTACH;FMTTYPE=image/jpeg:https://5874multi.s3.eu-west-1.amazonaws.com/wp-content/uploads/sites/58/2017/08/08135757/Hospital-Charity-Stand-e1586853076796.jpg
ORGANIZER;CN="Worcestershire Breast Unit Haven":MAILTO:alexandra.craigie@nhs.net
END:VEVENT
BEGIN:VEVENT
DTSTART;TZID=UTC:20190323T140000
DTEND;TZID=UTC:20190323T163000
DTSTAMP:20260421T102925
CREATED:20190227T124606Z
LAST-MODIFIED:20190227T124702Z
UID:1458-1553349600-1553358600@www.worcsbreastunithaven.com
SUMMARY:1940/50's Afternoon Tea
DESCRIPTION:Enjoy some stylish tea and cake\, and vintage singing from Betsy Harmony.  Not to be missed!
URL:https://www.worcsbreastunithaven.com/event/1940-50s-afternoon-tea/
ATTACH;FMTTYPE=image/jpeg:https://5874multi.s3.eu-west-1.amazonaws.com/wp-content/uploads/sites/58/2019/02/27124553/IMG_3462.jpg
END:VEVENT
BEGIN:VEVENT
DTSTART;TZID=UTC:20190321T190000
DTEND;TZID=UTC:20190321T210000
DTSTAMP:20260421T102925
CREATED:20180824T140644Z
LAST-MODIFIED:20180824T140644Z
UID:1230-1553194800-1553202000@www.worcsbreastunithaven.com
SUMMARY:Look Good Feel Better Workshop
DESCRIPTION:This wonderful evening offers the chance for women who are tackling cancer to come together at a special session hosted at the Worcestershire Breast Unit\, giving hints and tips on how to manage some of the visible side-effects of treatment. \nRun by beauty professionals\, Look Good Feel Better introduces some simple techniques that can help women to take back control of their bodies\, to help them look good and feel better about themselves. \nThe classes take place every two months\, in the relaxing environment of the Worcestershire Breast Unit in Worcester. \nTo find out more and to book your place\, please contact the WBUH Charity Office on 01905 733 786. \nPlease note – Booking is essential
URL:https://www.worcsbreastunithaven.com/event/look-good-feel-better-workshop-7/
LOCATION:Worcestershire Breast Unit\, Worcestershire Royal Hospital\, Charles Hastings Way\, Worcester\, WR5 1DD\, United Kingdom
ATTACH;FMTTYPE=image/jpeg:https://5874multi.s3.eu-west-1.amazonaws.com/wp-content/uploads/sites/58/2017/09/11103456/LGFB-2-2.jpg
END:VEVENT
BEGIN:VEVENT
DTSTART;TZID=UTC:20190318T103000
DTEND;TZID=UTC:20190318T153000
DTSTAMP:20260421T102925
CREATED:20181016T101041Z
LAST-MODIFIED:20181016T101041Z
UID:1334-1552905000-1552923000@www.worcsbreastunithaven.com
SUMMARY:Charity Stand at Worcester Royal Hospital
DESCRIPTION:Once a month\, we have a charity stand up in the reception of the main hospital which is manned by some of our lovely volunteers. The aim of the stand is to: \n– Raise awareness of our charity and the services which are available \n– Raise awareness of the wonderful range of activities and events that place both at the Unit and to raise funds for the charity \n– Raise funds for the charity through the sale of various charity pieces including bags. badges and cards \nIf you are around\, please do pop over and say hello. We’re happy to help in any way we can.
URL:https://www.worcsbreastunithaven.com/event/charity-stand-at-worcester-royal-hospital-18/
LOCATION:Worcester Royal Hospital\, Worcestershire Royal Hospital\, Charles Hastings Way\, Worcester\, WR5 1DD
ATTACH;FMTTYPE=image/jpeg:https://5874multi.s3.eu-west-1.amazonaws.com/wp-content/uploads/sites/58/2017/08/08135757/Hospital-Charity-Stand-e1586853076796.jpg
ORGANIZER;CN="Worcestershire Breast Unit Haven":MAILTO:alexandra.craigie@nhs.net
END:VEVENT
BEGIN:VEVENT
DTSTART;TZID=UTC:20190313T100000
DTEND;TZID=UTC:20190313T123000
DTSTAMP:20260421T102925
CREATED:20190227T124119Z
LAST-MODIFIED:20190227T124119Z
UID:1456-1552471200-1552480200@www.worcsbreastunithaven.com
SUMMARY:Coffee morning and card sale\, Pershore
DESCRIPTION:Charity Coffee Morning and Card Sale (Recycled cards) \nWednesday March 13th\, 2019 \n10:00am-12:30pm \nPaddock Close\, Pershore Christadelphian Hall\, Pershore\, WR10 1HJ \n(Off Three Springs Road\, A4104) \nPlease bring any used birthday cards for recycling.\, 
URL:https://www.worcsbreastunithaven.com/event/coffee-morning-and-card-sale-pershore/
LOCATION:Christadelphian Hall\, Paddock Close\, Pershore\, WR10 1HJ
ORGANIZER;CN="Worcestershire Breast Unit Haven":MAILTO:alexandra.craigie@nhs.net
END:VEVENT
BEGIN:VEVENT
DTSTART;TZID=UTC:20190305T110000
DTEND;TZID=UTC:20190305T120000
DTSTAMP:20260421T102925
CREATED:20190204T133709Z
LAST-MODIFIED:20190204T133709Z
UID:1451-1551783600-1551787200@www.worcsbreastunithaven.com
SUMMARY:pink pilates
DESCRIPTION:
URL:https://www.worcsbreastunithaven.com/event/pink-pilates-4/
LOCATION:St Wulstans Parish Church\, Cranham Drive\, Worcester\, WR4 9PA\, United Kingdom
ORGANIZER;CN="Worcestershire Breast Unit Haven":MAILTO:alexandra.craigie@nhs.net
END:VEVENT
BEGIN:VEVENT
DTSTART;TZID=UTC:20190227T123000
DTEND;TZID=UTC:20190227T140000
DTSTAMP:20260421T102925
CREATED:20190204T132759Z
LAST-MODIFIED:20190204T132759Z
UID:1442-1551270600-1551276000@www.worcsbreastunithaven.com
SUMMARY:walking group
DESCRIPTION:
URL:https://www.worcsbreastunithaven.com/event/walking-group-6/
LOCATION:Worcestershire Breast Unit\, Worcestershire Royal Hospital\, Charles Hastings Way\, Worcester\, WR5 1DD\, United Kingdom
END:VEVENT
BEGIN:VEVENT
DTSTART;TZID=UTC:20190226T110000
DTEND;TZID=UTC:20190226T120000
DTSTAMP:20260421T102925
CREATED:20190204T133547Z
LAST-MODIFIED:20190204T133547Z
UID:1449-1551178800-1551182400@www.worcsbreastunithaven.com
SUMMARY:pink pilates
DESCRIPTION:
URL:https://www.worcsbreastunithaven.com/event/pink-pilates-3/
LOCATION:St Wulstans Parish Church\, Cranham Drive\, Worcester\, WR4 9PA\, United Kingdom
ORGANIZER;CN="Worcestershire Breast Unit Haven":MAILTO:alexandra.craigie@nhs.net
END:VEVENT
BEGIN:VEVENT
DTSTART;TZID=UTC:20190220T123000
DTEND;TZID=UTC:20190220T140000
DTSTAMP:20260421T102925
CREATED:20190204T132608Z
LAST-MODIFIED:20190204T132608Z
UID:1440-1550665800-1550671200@www.worcsbreastunithaven.com
SUMMARY:walking group
DESCRIPTION:
URL:https://www.worcsbreastunithaven.com/event/walking-group-5/
LOCATION:Worcestershire Breast Unit\, Worcestershire Royal Hospital\, Charles Hastings Way\, Worcester\, WR5 1DD\, United Kingdom
END:VEVENT
BEGIN:VEVENT
DTSTART;TZID=UTC:20190219T110000
DTEND;TZID=UTC:20190219T120000
DTSTAMP:20260421T102925
CREATED:20190204T133420Z
LAST-MODIFIED:20190204T133420Z
UID:1447-1550574000-1550577600@www.worcsbreastunithaven.com
SUMMARY:pink pilates
DESCRIPTION:
URL:https://www.worcsbreastunithaven.com/event/pink-pilates-2/
LOCATION:St Wulstans Parish Church\, Cranham Drive\, Worcester\, WR4 9PA\, United Kingdom
ORGANIZER;CN="Worcestershire Breast Unit Haven":MAILTO:alexandra.craigie@nhs.net
END:VEVENT
BEGIN:VEVENT
DTSTART;TZID=UTC:20190218T103000
DTEND;TZID=UTC:20190218T153000
DTSTAMP:20260421T102925
CREATED:20181016T100743Z
LAST-MODIFIED:20181016T100743Z
UID:1332-1550485800-1550503800@www.worcsbreastunithaven.com
SUMMARY:Charity Stand at Worcester Royal Hospital
DESCRIPTION:Once a month\, we have a charity stand up in the reception of the main hospital which is manned by some of our lovely volunteers. The aim of the stand is to: \n– Raise awareness of our charity and the services which are available \n– Raise awareness of the wonderful range of activities and events that place both at the Unit and to raise funds for the charity \n– Raise funds for the charity through the sale of various charity pieces including bags. badges and cards \nIf you are around\, please do pop over and say hello. We’re happy to help in any way we can.
URL:https://www.worcsbreastunithaven.com/event/charity-stand-at-worcester-royal-hospital-17/
LOCATION:Worcester Royal Hospital\, Worcestershire Royal Hospital\, Charles Hastings Way\, Worcester\, WR5 1DD
ATTACH;FMTTYPE=image/jpeg:https://5874multi.s3.eu-west-1.amazonaws.com/wp-content/uploads/sites/58/2017/08/08135757/Hospital-Charity-Stand-e1586853076796.jpg
ORGANIZER;CN="Worcestershire Breast Unit Haven":MAILTO:alexandra.craigie@nhs.net
END:VEVENT
BEGIN:VEVENT
DTSTART;TZID=UTC:20190213T123000
DTEND;TZID=UTC:20190213T140000
DTSTAMP:20260421T102925
CREATED:20190204T132444Z
LAST-MODIFIED:20190204T132529Z
UID:1438-1550061000-1550066400@www.worcsbreastunithaven.com
SUMMARY:walking group
DESCRIPTION:
URL:https://www.worcsbreastunithaven.com/event/walking-group-4/
LOCATION:Worcestershire Breast Unit\, Worcestershire Royal Hospital\, Charles Hastings Way\, Worcester\, WR5 1DD\, United Kingdom
END:VEVENT
BEGIN:VEVENT
DTSTART;TZID=UTC:20190212T110000
DTEND;TZID=UTC:20190212T120000
DTSTAMP:20260421T102925
CREATED:20190204T133258Z
LAST-MODIFIED:20190204T133258Z
UID:1444-1549969200-1549972800@www.worcsbreastunithaven.com
SUMMARY:pink pilates
DESCRIPTION:
URL:https://www.worcsbreastunithaven.com/event/pink-pilates/
LOCATION:St Wulstans Parish Church\, Cranham Drive\, Worcester\, WR4 9PA\, United Kingdom
ORGANIZER;CN="Worcestershire Breast Unit Haven":MAILTO:alexandra.craigie@nhs.net
END:VEVENT
BEGIN:VEVENT
DTSTART;TZID=UTC:20190206T123000
DTEND;TZID=UTC:20190206T140000
DTSTAMP:20260421T102925
CREATED:20190204T132346Z
LAST-MODIFIED:20190204T132346Z
UID:1436-1549456200-1549461600@www.worcsbreastunithaven.com
SUMMARY:walking group
DESCRIPTION:
URL:https://www.worcsbreastunithaven.com/event/walking-group-3/
LOCATION:Worcestershire Breast Unit\, Worcestershire Royal Hospital\, Charles Hastings Way\, Worcester\, WR5 1DD\, United Kingdom
END:VEVENT
BEGIN:VEVENT
DTSTART;TZID=UTC:20190206T123000
DTEND;TZID=UTC:20190206T140000
DTSTAMP:20260421T102925
CREATED:20190126T084848Z
LAST-MODIFIED:20190126T084848Z
UID:1430-1549456200-1549461600@www.worcsbreastunithaven.com
SUMMARY:Walking group
DESCRIPTION:
URL:https://www.worcsbreastunithaven.com/event/walking-group-2/
LOCATION:Worcestershire Breast Unit\, Worcestershire Royal Hospital\, Charles Hastings Way\, Worcester\, WR5 1DD\, United Kingdom
END:VEVENT
BEGIN:VEVENT
DTSTART;TZID=UTC:20190205T110000
DTEND;TZID=UTC:20190205T120000
DTSTAMP:20260421T102925
CREATED:20190131T153452Z
LAST-MODIFIED:20190131T153452Z
UID:1433-1549364400-1549368000@www.worcsbreastunithaven.com
SUMMARY:Pink Ribbon Pilates
DESCRIPTION:Pink Ribbon Pilates Classes \nTuesday Mornings 11am \nSt Wulstans Parish Church \nCranham Drive \nWarndon \nWorcester WR4 9PA \n  \nSuitable for all ages\, fitness levels and health conditions and based on the Pink Ribbon Programme (post operative workout classes enhancing recovery). \nA small class of up to 8 people\, taught in a relaxed and friendly atmosphere.  Cost £36.00 per six week course. \nFor a free trial session\, bookings and further information please contact: \nDebbie Yeomans \nRehabilitative Breast Cancer Exercise Instructor \nPink Ribbon Program \nPilates Instructor – QFC Level 3 Diploma in Teaching Pilates \nmobile: 07746 880727   \nemail: debra.yeomans@btinternet.com
URL:https://www.worcsbreastunithaven.com/event/pink-ribbon-pilates/
END:VEVENT
BEGIN:VEVENT
DTSTART;TZID=UTC:20190130T123000
DTEND;TZID=UTC:20190130T140000
DTSTAMP:20260421T102925
CREATED:20190126T084657Z
LAST-MODIFIED:20190126T084657Z
UID:1426-1548851400-1548856800@www.worcsbreastunithaven.com
SUMMARY:Walking group
DESCRIPTION:
URL:https://www.worcsbreastunithaven.com/event/walking-group/
LOCATION:Worcestershire Breast Unit\, Worcestershire Royal Hospital\, Charles Hastings Way\, Worcester\, WR5 1DD\, United Kingdom
END:VEVENT
END:VCALENDAR